BEGIN:VCALENDAR
VERSION:2.0
PRODID:-//The Piedmont Virginian - ECPv5.3.2.1//NONSGML v1.0//EN
CALSCALE:GREGORIAN
METHOD:PUBLISH
X-WR-CALNAME:The Piedmont Virginian
X-ORIGINAL-URL:https://piedmontvirginian.com
X-WR-CALDESC:Events for The Piedmont Virginian
BEGIN:VTIMEZONE
TZID:America/New_York
BEGIN:DAYLIGHT
TZOFFSETFROM:-0500
TZOFFSETTO:-0400
TZNAME:EDT
DTSTART:20180311T070000
END:DAYLIGHT
BEGIN:STANDARD
TZOFFSETFROM:-0400
TZOFFSETTO:-0500
TZNAME:EST
DTSTART:20181104T060000
END:STANDARD
END:VTIMEZONE
BEGIN:VEVENT
DTSTART;TZID=America/New_York:20180811T110000
DTEND;TZID=America/New_York:20180811T230000
DTSTAMP:20260421T135310
CREATED:20180801T183518Z
LAST-MODIFIED:20180801T183518Z
UID:25882-1533985200-1534028400@piedmontvirginian.com
SUMMARY:Second Saturday on the Rappahannock County Artisan Trail
DESCRIPTION:August is for Art. The days are long\, the evenings are light and the temperatures are warm… and August is for Art! Leave the dogs and cats at home and indulge in a day of art and entertainment before school starts up again. Rappahannock County Artisan Trail members are featuring art classes\, gallery exhibitions and entertainment for your enjoyment\, and there are always wonderful lodging opportunities and culinary delights for you as well. Welcome to a day – or a weekend – of artful pleasure on the Trail! \nCURRENT OPEN DOOR TOUR EVENTS
URL:https://piedmontvirginian.com/event/second-saturday-on-the-rappahannock-county-artisan-trail-4/
LOCATION:Rappahannock County\, VA
CATEGORIES:@ Piedmont Virginian
ATTACH;FMTTYPE=image/jpeg:https://piedmontvirginian.com/wp-content/uploads/2018/07/Sec-Sat-logo_170x170.jpg
END:VEVENT
END:VCALENDAR