BEGIN:VCALENDAR
VERSION:2.0
PRODID:-//The Piedmont Virginian - ECPv5.3.2.1//NONSGML v1.0//EN
CALSCALE:GREGORIAN
METHOD:PUBLISH
X-WR-CALNAME:The Piedmont Virginian
X-ORIGINAL-URL:https://piedmontvirginian.com
X-WR-CALDESC:Events for The Piedmont Virginian
BEGIN:VTIMEZONE
TZID:America/New_York
BEGIN:DAYLIGHT
TZOFFSETFROM:-0500
TZOFFSETTO:-0400
TZNAME:EDT
DTSTART:20170312T070000
END:DAYLIGHT
BEGIN:STANDARD
TZOFFSETFROM:-0400
TZOFFSETTO:-0500
TZNAME:EST
DTSTART:20171105T060000
END:STANDARD
END:VTIMEZONE
BEGIN:VEVENT
DTSTART;TZID=America/New_York:20170505T220000
DTEND;TZID=America/New_York:20170505T233000
DTSTAMP:20260419T200609
CREATED:20170504T165619Z
LAST-MODIFIED:20170504T165619Z
UID:20713-1494021600-1494027000@piedmontvirginian.com
SUMMARY:Someone Else's Problem at the Davis Street Pier
DESCRIPTION:Liven up your evening at the Davis Street Pier. Someone Else’s Problem perform at 10 p.m. 302 E. Davis Street in Culpeper. 540-317-5702
URL:https://piedmontvirginian.com/event/someone-elses-problem-at-the-davis-street-pier/
CATEGORIES:@ Culpeper Times,Music and Concerts,Wine/Beer/Libations
END:VEVENT
END:VCALENDAR