BEGIN:VCALENDAR
VERSION:2.0
PRODID:-//The Piedmont Virginian - ECPv5.3.2.1//NONSGML v1.0//EN
CALSCALE:GREGORIAN
METHOD:PUBLISH
X-WR-CALNAME:The Piedmont Virginian
X-ORIGINAL-URL:https://piedmontvirginian.com
X-WR-CALDESC:Events for The Piedmont Virginian
BEGIN:VTIMEZONE
TZID:America/New_York
BEGIN:DAYLIGHT
TZOFFSETFROM:-0500
TZOFFSETTO:-0400
TZNAME:EDT
DTSTART:20160313T070000
END:DAYLIGHT
BEGIN:STANDARD
TZOFFSETFROM:-0400
TZOFFSETTO:-0500
TZNAME:EST
DTSTART:20161106T060000
END:STANDARD
END:VTIMEZONE
BEGIN:VEVENT
DTSTART;TZID=America/New_York:20160402T160000
DTEND;TZID=America/New_York:20160402T180000
DTSTAMP:20260421T063310
CREATED:20160328T181337Z
LAST-MODIFIED:20160328T181409Z
UID:9612-1459612800-1459620000@piedmontvirginian.com
SUMMARY:Special Event - Screening of "Somm: Into the Bottle"
DESCRIPTION:Somm: Into the Bottle\, just released in February\, is the latest from Jason Wise\, whose 2012 documentary Somm followed four candidates as they prepared for the Master Sommelier exam and provided unique insight into the world of wine. Movie goers will be able to enjoy wine from local winery partner DuCard Vineyards while watching the film – wine is included in the ticket price.  Q&A session will follow the screening\, with winemakers\, filmmakers and wine industry representatives. The screening is a fundraiser for The Film Festival at Little Washington\, with net proceeds being donated to the Festival.
URL:https://piedmontvirginian.com/event/special-event-screening-of-somm-into-the-bottle/
LOCATION:Theatre at Washington\, Virginia\, Washington\, VA\, United States
CATEGORIES:@ Piedmont Virginian,@ Rappahannock News,Theatre
ATTACH;FMTTYPE=image/jpeg:https://piedmontvirginian.com/wp-content/uploads/2016/03/MV5BMTk4NzcxMDgzMF5BMl5BanBnXkFtZTgwNTY5NDE5NzE@._V1_UY268_CR10182268_AL_.jpg
END:VEVENT
END:VCALENDAR