BEGIN:VCALENDAR
VERSION:2.0
PRODID:-//The Piedmont Virginian - ECPv5.3.2.1//NONSGML v1.0//EN
CALSCALE:GREGORIAN
METHOD:PUBLISH
X-WR-CALNAME:The Piedmont Virginian
X-ORIGINAL-URL:https://piedmontvirginian.com
X-WR-CALDESC:Events for The Piedmont Virginian
BEGIN:VTIMEZONE
TZID:America/New_York
BEGIN:DAYLIGHT
TZOFFSETFROM:-0500
TZOFFSETTO:-0400
TZNAME:EDT
DTSTART:20160313T070000
END:DAYLIGHT
BEGIN:STANDARD
TZOFFSETFROM:-0400
TZOFFSETTO:-0500
TZNAME:EST
DTSTART:20161106T060000
END:STANDARD
END:VTIMEZONE
BEGIN:VEVENT
DTSTART;TZID=America/New_York:20160326T000000
DTEND;TZID=America/New_York:20160326T000000
DTSTAMP:20260419T083540
CREATED:20160306T200017Z
LAST-MODIFIED:20160306T200212Z
UID:9023-1458950400-1458950400@piedmontvirginian.com
SUMMARY:Starting a Vineyard presentation at Monticello
DESCRIPTION:Meets at the David M. Rubenstein Visitor CenterSaturday\, March 26\, 2016 – 10:00am to 12:00pm\n“Father of Virginia Wine” Gabriele Rausse will lead this two-hour workshop in the Monticello vineyards. He’ll discuss the basic principles of grape growing—variety and site selection\, trellis systems\, soil preparation\, planting\, pruning\, pest control\, and harvesting—and provide beginning grape growers a foundation in serious viticulture. https://www.monticello.org/site/visit/events/starting-vineyard
URL:https://piedmontvirginian.com/event/starting-a-vineyard-presentation-at-monticello/
ATTACH;FMTTYPE=:
END:VEVENT
END:VCALENDAR