BEGIN:VCALENDAR
VERSION:2.0
PRODID:-//The Piedmont Virginian - ECPv5.3.2.1//NONSGML v1.0//EN
CALSCALE:GREGORIAN
METHOD:PUBLISH
X-WR-CALNAME:The Piedmont Virginian
X-ORIGINAL-URL:https://piedmontvirginian.com
X-WR-CALDESC:Events for The Piedmont Virginian
BEGIN:VTIMEZONE
TZID:America/New_York
BEGIN:DAYLIGHT
TZOFFSETFROM:-0500
TZOFFSETTO:-0400
TZNAME:EDT
DTSTART:20180311T070000
END:DAYLIGHT
BEGIN:STANDARD
TZOFFSETFROM:-0400
TZOFFSETTO:-0500
TZNAME:EST
DTSTART:20181104T060000
END:STANDARD
END:VTIMEZONE
BEGIN:VEVENT
DTSTART;TZID=America/New_York:20180603T140000
DTEND;TZID=America/New_York:20180603T160000
DTSTAMP:20260421T153103
CREATED:20180507T202644Z
LAST-MODIFIED:20180507T202644Z
UID:25504-1528034400-1528041600@piedmontvirginian.com
SUMMARY:Sunday Sketch
DESCRIPTION:Join us for a free sketching session in the Museum! Artists of all ages are invited to sketch alongside local artist and art instructor Teresa Duke. Materials are provided.\nPlease contact Anne Marie Paquette\, the Clarice & Robert H. Smith Educator\, to register for this program: APaquette@NationalSporting.org\, (540) 687-6542 ext. 25
URL:https://piedmontvirginian.com/event/sunday-sketch-4/
LOCATION:National Sporting Library & Museum\, 102 The Plains Road\, Middleburg\, 20117
CATEGORIES:@ Piedmont Virginian
ATTACH;FMTTYPE=image/jpeg:https://piedmontvirginian.com/wp-content/uploads/2018/05/IMG_7379_SundaySketch.jpg
END:VEVENT
END:VCALENDAR