BEGIN:VCALENDAR
VERSION:2.0
PRODID:-//The Piedmont Virginian - ECPv5.3.2.1//NONSGML v1.0//EN
CALSCALE:GREGORIAN
METHOD:PUBLISH
X-WR-CALNAME:The Piedmont Virginian
X-ORIGINAL-URL:https://piedmontvirginian.com
X-WR-CALDESC:Events for The Piedmont Virginian
BEGIN:VTIMEZONE
TZID:America/New_York
BEGIN:DAYLIGHT
TZOFFSETFROM:-0500
TZOFFSETTO:-0400
TZNAME:EDT
DTSTART:20170312T070000
END:DAYLIGHT
BEGIN:STANDARD
TZOFFSETFROM:-0400
TZOFFSETTO:-0500
TZNAME:EST
DTSTART:20171105T060000
END:STANDARD
END:VTIMEZONE
BEGIN:VEVENT
DTSTART;TZID=America/New_York:20171102T180000
DTEND;TZID=America/New_York:20171102T193000
DTSTAMP:20260419T103835
CREATED:20171011T124829Z
LAST-MODIFIED:20171011T124829Z
UID:23603-1509645600-1509651000@piedmontvirginian.com
SUMMARY:Symposia in Ancient Greece
DESCRIPTION:Join us at NSLM as Dr. Peter Schertz of the Virginia Museum of Fine Arts presents on the ancient Greek tradition of wine drinking and entertainment: the symposium.\n$5 admission\, free to NSLM members. Please RSVP to Anne Marie Barnes\, the Clarice & Robert H. Smith Educator\, at ABarnes@NationalSporting.org\, 540-687-6542 ext. 25
URL:https://piedmontvirginian.com/event/symposia-in-ancient-greece/
LOCATION:National Sporting Library & Museum\, 102 The Plains Road\, Middleburg\, 20117
CATEGORIES:@ Piedmont Virginian,History and Heritage
END:VEVENT
END:VCALENDAR