BEGIN:VCALENDAR
VERSION:2.0
PRODID:-//The Piedmont Virginian - ECPv5.3.2.1//NONSGML v1.0//EN
CALSCALE:GREGORIAN
METHOD:PUBLISH
X-WR-CALNAME:The Piedmont Virginian
X-ORIGINAL-URL:https://piedmontvirginian.com
X-WR-CALDESC:Events for The Piedmont Virginian
BEGIN:VTIMEZONE
TZID:America/New_York
BEGIN:DAYLIGHT
TZOFFSETFROM:-0500
TZOFFSETTO:-0400
TZNAME:EDT
DTSTART:20170312T070000
END:DAYLIGHT
BEGIN:STANDARD
TZOFFSETFROM:-0400
TZOFFSETTO:-0500
TZNAME:EST
DTSTART:20171105T060000
END:STANDARD
END:VTIMEZONE
BEGIN:VEVENT
DTSTART;TZID=America/New_York:20170407T180000
DTEND;TZID=America/New_York:20170407T200000
DTSTAMP:20260419T133811
CREATED:20170406T194747Z
LAST-MODIFIED:20170406T194747Z
UID:20394-1491588000-1491595200@piedmontvirginian.com
SUMMARY:Teen Games
DESCRIPTION:Teen Werewolf for 6th-12th grades from 6-8 p.m. Sign up in advance.  This event is held while the Library is closed\, just for teens. Werewolf is a bluffing game that is similar to Mafia. Participants are on different teams\, and are trying to guess who the werewolves really are or who the special villagers are. Lots of mingling. Snacks served. Contact Laini Bostian at lbostian@cclva.org or 540-825- 8691
URL:https://piedmontvirginian.com/event/teen-games/
LOCATION:Culpeper County Library\, 271 Southgate Shopping Center\, Culpeper\, VA\, 22701\, United States
CATEGORIES:@ Culpeper Times
END:VEVENT
END:VCALENDAR