BEGIN:VCALENDAR
VERSION:2.0
PRODID:-//The Piedmont Virginian - ECPv5.3.2.1//NONSGML v1.0//EN
CALSCALE:GREGORIAN
METHOD:PUBLISH
X-WR-CALNAME:The Piedmont Virginian
X-ORIGINAL-URL:https://piedmontvirginian.com
X-WR-CALDESC:Events for The Piedmont Virginian
BEGIN:VTIMEZONE
TZID:America/New_York
BEGIN:DAYLIGHT
TZOFFSETFROM:-0500
TZOFFSETTO:-0400
TZNAME:EDT
DTSTART:20190310T070000
END:DAYLIGHT
BEGIN:STANDARD
TZOFFSETFROM:-0400
TZOFFSETTO:-0500
TZNAME:EST
DTSTART:20191103T060000
END:STANDARD
END:VTIMEZONE
BEGIN:VEVENT
DTSTART;TZID=America/New_York:20190320T090000
DTEND;TZID=America/New_York:20190324T170000
DTSTAMP:20260421T074223
CREATED:20180801T183307Z
LAST-MODIFIED:20180801T183307Z
UID:25920-1553072400-1553446800@piedmontvirginian.com
SUMMARY:The 25th Annual Virginia Festival of the Book
DESCRIPTION:The 25th annual Virginia Festival of the Book takes place March 20-24\, 2019\, in Charlottesville and Albemarle County\, Virginia. Featuring more than 200 programs each year\, the Festival celebrates new work in all genres and for all ages and levels of readers. Most Festival programs are free to attend and open to the public. The full schedule for the 2019 Festival will be announced in January 2019. To learn more\, visit VaBook.org.
URL:https://piedmontvirginian.com/event/the-25th-annual-virginia-festival-of-the-book/
LOCATION:Various
CATEGORIES:@ Piedmont Virginian
ATTACH;FMTTYPE=image/png:https://piedmontvirginian.com/wp-content/uploads/2018/08/BookFest_ACTUAL-Square_RGB.png
END:VEVENT
END:VCALENDAR