BEGIN:VCALENDAR
VERSION:2.0
PRODID:-//The Piedmont Virginian - ECPv5.3.2.1//NONSGML v1.0//EN
CALSCALE:GREGORIAN
METHOD:PUBLISH
X-WR-CALNAME:The Piedmont Virginian
X-ORIGINAL-URL:https://piedmontvirginian.com
X-WR-CALDESC:Events for The Piedmont Virginian
BEGIN:VTIMEZONE
TZID:America/New_York
BEGIN:DAYLIGHT
TZOFFSETFROM:-0500
TZOFFSETTO:-0400
TZNAME:EDT
DTSTART:20170312T070000
END:DAYLIGHT
BEGIN:STANDARD
TZOFFSETFROM:-0400
TZOFFSETTO:-0500
TZNAME:EST
DTSTART:20171105T060000
END:STANDARD
END:VTIMEZONE
BEGIN:VEVENT
DTSTART;TZID=America/New_York:20170407T180000
DTEND;TZID=America/New_York:20170407T210000
DTSTAMP:20260419T121346
CREATED:20170329T150356Z
LAST-MODIFIED:20170329T150356Z
UID:19864-1491588000-1491598800@piedmontvirginian.com
SUMMARY:The Art of Stoneware Reception
DESCRIPTION:The Art of Stoneware Reception: Friday\, April 7\, 6-9pm\nTerrarium Workshop: Friday\, April 7\, 6-8pm \nPONSHOP Studio and Gallery is excited to host our April First Friday reception\, “The Art of Stoneware\,” on Friday\, April 7 from 6-9pm. Join us in appreciating the PONSHOP potters\, as well as welcoming a new ceramicist\, Ahnalisa Reavis\, to the lineup. New work will also be on display by artists Scarlett Pons\, Rachel Ruddle\, and Matt James. \nMissed out on last month’s Terrarium Workshop? No worries! During the First Friday reception\, Scarlett Pons will be instructing another workshop between 6 and 8pm. Register online or by phone prior to April 7th and the $40 fee includes a glass container and all other materials.
URL:https://piedmontvirginian.com/event/the-art-of-stoneware-reception/
LOCATION:Ponshop Studio and Gallery\, 712 Caroline St\, Fredericksburg\, 22401
CATEGORIES:@ Piedmont Virginian,Art
ATTACH;FMTTYPE=image/jpeg:https://piedmontvirginian.com/wp-content/uploads/2017/03/TheArtOfStoneware_photo_web.jpg
END:VEVENT
END:VCALENDAR