BEGIN:VCALENDAR
VERSION:2.0
PRODID:-//The Piedmont Virginian - ECPv5.3.2.1//NONSGML v1.0//EN
CALSCALE:GREGORIAN
METHOD:PUBLISH
X-WR-CALNAME:The Piedmont Virginian
X-ORIGINAL-URL:https://piedmontvirginian.com
X-WR-CALDESC:Events for The Piedmont Virginian
BEGIN:VTIMEZONE
TZID:America/New_York
BEGIN:DAYLIGHT
TZOFFSETFROM:-0500
TZOFFSETTO:-0400
TZNAME:EDT
DTSTART:20180311T070000
END:DAYLIGHT
BEGIN:STANDARD
TZOFFSETFROM:-0400
TZOFFSETTO:-0500
TZNAME:EST
DTSTART:20181104T060000
END:STANDARD
END:VTIMEZONE
BEGIN:VEVENT
DTSTART;VALUE=DATE:20181201
DTEND;VALUE=DATE:20181203
DTSTAMP:20260421T074228
CREATED:20181010T203854Z
LAST-MODIFIED:20181010T203854Z
UID:26222-1543622400-1543795199@piedmontvirginian.com
SUMMARY:The Clay and Metal Loft Holiday Sale
DESCRIPTION:Join us for a weekend of handmade shopping at Leesburg’s newest art studio: The Clay and Metal Loft \nSaturday and Sunday\, December 1 & 2\, 2018\n10-5pm \nHandmade Pottery and Jewelry\, Class Gift Certificates \nThe Clay and Metal Loft\n27 Fairfax Street\nLeesburg\, VA 20175 \nwww.theclayandmetalloft.com
URL:https://piedmontvirginian.com/event/the-clay-and-metal-loft-holiday-sale/
LOCATION:The Clay and Metal Loft\, 27 Fairfax Street\, Virginia Village Shopping Center\, Leesburg\, VA\, 20175\, United States
CATEGORIES:@ Piedmont Virginian
ATTACH;FMTTYPE=image/png:https://piedmontvirginian.com/wp-content/uploads/2018/10/Holidaysale.png
END:VEVENT
END:VCALENDAR