BEGIN:VCALENDAR
VERSION:2.0
PRODID:-//The Piedmont Virginian - ECPv5.3.2.1//NONSGML v1.0//EN
CALSCALE:GREGORIAN
METHOD:PUBLISH
X-WR-CALNAME:The Piedmont Virginian
X-ORIGINAL-URL:https://piedmontvirginian.com
X-WR-CALDESC:Events for The Piedmont Virginian
BEGIN:VTIMEZONE
TZID:America/New_York
BEGIN:DAYLIGHT
TZOFFSETFROM:-0500
TZOFFSETTO:-0400
TZNAME:EDT
DTSTART:20160313T070000
END:DAYLIGHT
BEGIN:STANDARD
TZOFFSETFROM:-0400
TZOFFSETTO:-0500
TZNAME:EST
DTSTART:20161106T060000
END:STANDARD
END:VTIMEZONE
BEGIN:VEVENT
DTSTART;TZID=America/New_York:20160620T190000
DTEND;TZID=America/New_York:20160620T210000
DTSTAMP:20260424T033044
CREATED:20160616T204851Z
LAST-MODIFIED:20160616T204851Z
UID:12922-1466449200-1466456400@piedmontvirginian.com
SUMMARY:The Founding Fathers Republican Women
DESCRIPTION:They will hold their monthly meeting starting at 7 p.m. at St. Stephens Episcopal Church. Short business meeting followed by presentation from Sheriff Scott Jenkins who has served the community since 2012. For more information\, contact ffrwinformation@gmail.com
URL:https://piedmontvirginian.com/event/the-founding-fathers-republican-women/
LOCATION:St. Stephen’s Episcopal Church\, 115 N. East St.\, Culpeper\, VA\, 22701\, United States
CATEGORIES:@ Culpeper Times,Meetup
END:VEVENT
END:VCALENDAR