BEGIN:VCALENDAR
VERSION:2.0
PRODID:-//The Piedmont Virginian - ECPv5.3.2.1//NONSGML v1.0//EN
CALSCALE:GREGORIAN
METHOD:PUBLISH
X-WR-CALNAME:The Piedmont Virginian
X-ORIGINAL-URL:https://piedmontvirginian.com
X-WR-CALDESC:Events for The Piedmont Virginian
BEGIN:VTIMEZONE
TZID:America/New_York
BEGIN:DAYLIGHT
TZOFFSETFROM:-0500
TZOFFSETTO:-0400
TZNAME:EDT
DTSTART:20160313T070000
END:DAYLIGHT
BEGIN:STANDARD
TZOFFSETFROM:-0400
TZOFFSETTO:-0500
TZNAME:EST
DTSTART:20161106T060000
END:STANDARD
END:VTIMEZONE
BEGIN:VEVENT
DTSTART;TZID=America/New_York:20160621T190000
DTEND;TZID=America/New_York:20160621T210000
DTSTAMP:20260424T031932
CREATED:20160616T205128Z
LAST-MODIFIED:20160616T205128Z
UID:12923-1466535600-1466542800@piedmontvirginian.com
SUMMARY:The Jefferson Ruritan Club will hold its monthly dinner\, program and meeting
DESCRIPTION:Begins at 7 p.m. at the Jeffersonton Community Center\, 5073 Jeffersonton Rd.\, Jeffersonton.  Anyone in the community is welcome to attend\, no cost.   The evening will begin with a time of fellowship between 6:30-7 p.m. Speaker will be Pastor Josh Baird from The Life Church Warrenton.  For more info about the Jefferson Ruritan Club\, call 540-937-5119 or go to www.JeffersonVaRuritanClub.org.
URL:https://piedmontvirginian.com/event/the-jefferson-ruritan-club-will-hold-its-monthly-dinner-program-and-meeting/
LOCATION:Jeffersonton Community Center\, 5073 Jeffersonton Rd.\, Jeffersonton\, VA\, 22701\, United States
CATEGORIES:@ Culpeper Times,Meetup
END:VEVENT
END:VCALENDAR