BEGIN:VCALENDAR
VERSION:2.0
PRODID:-//The Piedmont Virginian - ECPv5.3.2.1//NONSGML v1.0//EN
CALSCALE:GREGORIAN
METHOD:PUBLISH
X-WR-CALNAME:The Piedmont Virginian
X-ORIGINAL-URL:https://piedmontvirginian.com
X-WR-CALDESC:Events for The Piedmont Virginian
BEGIN:VTIMEZONE
TZID:America/New_York
BEGIN:DAYLIGHT
TZOFFSETFROM:-0500
TZOFFSETTO:-0400
TZNAME:EDT
DTSTART:20170312T070000
END:DAYLIGHT
BEGIN:STANDARD
TZOFFSETFROM:-0400
TZOFFSETTO:-0500
TZNAME:EST
DTSTART:20171105T060000
END:STANDARD
END:VTIMEZONE
BEGIN:VEVENT
DTSTART;TZID=America/New_York:20170511T193000
DTEND;TZID=America/New_York:20170511T210000
DTSTAMP:20260419T150234
CREATED:20170504T171945Z
LAST-MODIFIED:20170504T171945Z
UID:20750-1494531000-1494536400@piedmontvirginian.com
SUMMARY:The Library of Congress Packard Campus Theatre presents “A Mighty Wind”
DESCRIPTION:(Warner Bros.\, 2003). Folk musicians of the 1960s era are the subject of this mockumentary directed by Christopher Guest. Also on the bill are the perky New Main Street Singers and former lovebirds Mitch & Mickey (Eugene Levy and Catherine O’ Hara). Starts ay 7:30 p.m. Free\, at the Library of Congress Packard Campus Theater located at 19053 Mt. Pony Rd. in Culpeper\, VA. No reservations required. For more information\, call 202-707-9994.
URL:https://piedmontvirginian.com/event/the-library-of-congress-packard-campus-theatre-presents-a-mighty-wind/
LOCATION:Library of Congress Packard Campus Theater\, 19053 Mt. Pony Rd.\, Culpeper\, VA\, 22701\, United States
CATEGORIES:@ Culpeper Times
END:VEVENT
END:VCALENDAR