BEGIN:VCALENDAR
VERSION:2.0
PRODID:-//The Piedmont Virginian - ECPv5.3.2.1//NONSGML v1.0//EN
CALSCALE:GREGORIAN
METHOD:PUBLISH
X-WR-CALNAME:The Piedmont Virginian
X-ORIGINAL-URL:https://piedmontvirginian.com
X-WR-CALDESC:Events for The Piedmont Virginian
BEGIN:VTIMEZONE
TZID:America/New_York
BEGIN:DAYLIGHT
TZOFFSETFROM:-0500
TZOFFSETTO:-0400
TZNAME:EDT
DTSTART:20160313T070000
END:DAYLIGHT
BEGIN:STANDARD
TZOFFSETFROM:-0400
TZOFFSETTO:-0500
TZNAME:EST
DTSTART:20161106T060000
END:STANDARD
END:VTIMEZONE
BEGIN:VEVENT
DTSTART;TZID=America/New_York:20160923T193000
DTEND;TZID=America/New_York:20160923T210000
DTSTAMP:20260423T071030
CREATED:20160901T162445Z
LAST-MODIFIED:20160901T162445Z
UID:16289-1474659000-1474664400@piedmontvirginian.com
SUMMARY:The Library of Congress Packard Campus Theatre presents “Steamboat Bill\, Jr.”
DESCRIPTION:Buster Keaton plays the mild-mannered son of a steamboat captain caught in the middle of the bitter rivalry between his father and another Mississippi riverboat owner. This classic comedy contains one of most famous\, eye-popping (and dangerously real) sight gags ever seen on the silent screen. Though uncredited\, Keaton co-wrote and co-directed the film which was the last he made for his own independent company.  Ernest Torrence\, Tom McGuire and Marion Byron are featured in the cast. Three of Buster Keaton’s short comedies will be shown before the feature\, “One Week” (1920); which was added to the National Film Registry in 2008; “The Boat” (1921)\, and “The Blacksmith” (1922). Enjoy live musical accompaniment by Ben Model. Free\, at the Library of Congress Packard Campus Theater located at 19053 Mt. Pony Rd. in Culpeper\, VA.
URL:https://piedmontvirginian.com/event/the-library-of-congress-packard-campus-theatre-presents-steamboat-bill-jr/
LOCATION:Library of Congress Packard Campus Theater\, 19053 Mt. Pony Rd.\, Culpeper\, VA\, 22701\, United States
CATEGORIES:@ Culpeper Times
END:VEVENT
END:VCALENDAR