BEGIN:VCALENDAR
VERSION:2.0
PRODID:-//The Piedmont Virginian - ECPv5.3.2.1//NONSGML v1.0//EN
CALSCALE:GREGORIAN
METHOD:PUBLISH
X-WR-CALNAME:The Piedmont Virginian
X-ORIGINAL-URL:https://piedmontvirginian.com
X-WR-CALDESC:Events for The Piedmont Virginian
BEGIN:VTIMEZONE
TZID:America/New_York
BEGIN:DAYLIGHT
TZOFFSETFROM:-0500
TZOFFSETTO:-0400
TZNAME:EDT
DTSTART:20170312T070000
END:DAYLIGHT
BEGIN:STANDARD
TZOFFSETFROM:-0400
TZOFFSETTO:-0500
TZNAME:EST
DTSTART:20171105T060000
END:STANDARD
END:VTIMEZONE
BEGIN:VEVENT
DTSTART;TZID=America/New_York:20170506T193000
DTEND;TZID=America/New_York:20170506T210000
DTSTAMP:20260419T153636
CREATED:20170504T171029Z
LAST-MODIFIED:20170504T171029Z
UID:20738-1494099000-1494104400@piedmontvirginian.com
SUMMARY:The Library of Congress Packard Campus Theatre presents “The Best of the Marty Stuart Show”
DESCRIPTION:(RFD-TV\, 2008-2014). Grammy-Award -Winning country music singer-songwriter Marty Stuart’s RFD-TV Series ran from 2008 to 2014. Starts at 7:30 p.m. Free\, at the Library of Congress Packard Campus Theater located at 19053 Mt. Pony Rd. in Culpeper\, VA. No reservations required. For more information\, call 202-707-9994.
URL:https://piedmontvirginian.com/event/the-library-of-congress-packard-campus-theatre-presents-the-best-of-the-marty-stuart-show/
LOCATION:Library of Congress Packard Campus Theater\, 19053 Mt. Pony Rd.\, Culpeper\, VA\, 22701\, United States
CATEGORIES:@ Culpeper Times
END:VEVENT
END:VCALENDAR