BEGIN:VCALENDAR
VERSION:2.0
PRODID:-//The Piedmont Virginian - ECPv5.3.2.1//NONSGML v1.0//EN
CALSCALE:GREGORIAN
METHOD:PUBLISH
X-WR-CALNAME:The Piedmont Virginian
X-ORIGINAL-URL:https://piedmontvirginian.com
X-WR-CALDESC:Events for The Piedmont Virginian
BEGIN:VTIMEZONE
TZID:America/New_York
BEGIN:DAYLIGHT
TZOFFSETFROM:-0500
TZOFFSETTO:-0400
TZNAME:EDT
DTSTART:20160313T070000
END:DAYLIGHT
BEGIN:STANDARD
TZOFFSETFROM:-0400
TZOFFSETTO:-0500
TZNAME:EST
DTSTART:20161106T060000
END:STANDARD
END:VTIMEZONE
BEGIN:VEVENT
DTSTART;TZID=America/New_York:20160623T193000
DTEND;TZID=America/New_York:20160623T220000
DTSTAMP:20260424T031616
CREATED:20160623T152721Z
LAST-MODIFIED:20160623T152721Z
UID:13555-1466710200-1466719200@piedmontvirginian.com
SUMMARY:The Library of Congress Packard Campus Theatre presents “The North Star”
DESCRIPTION:Designed to gather sympathy for the Russian people and strengthen American support for the U.S. government’s alliance with the Soviet Union during World War II\, Lewis Milestone’s 1943 drama focuses on the people of a tranquil Soviet farming collective in 1941 whose lives are shattered following a violent invasion by the Germans. Scripted by Lillian Hellman\, with cinematography by James Wong Howe\, the film features a stellar cast including Anne Baxter\, Dana Andrews\, Walter Huston\, Erich von Stroheim\, Walter Brennan and Farley Granger in his film debut. “The North Star” was condemned by some as Communist propaganda\, but it had its supporters among prominent film critics as well. Nominated for six Academy Awards\, it is a fascinating blend of politics and melodrama. Free\, at the Library of Congress Packard Campus Theater located at 19053 Mt. Pony Rd. in Culpeper\, VA. No reservations required. For more information\, call 202-707- 9994.
URL:https://piedmontvirginian.com/event/the-library-of-congress-packard-campus-theatre-presents-the-north-star/
LOCATION:Library of Congress Packard Campus Theater\, 19053 Mt. Pony Rd.\, Culpeper\, VA\, 22701\, United States
CATEGORIES:@ Culpeper Times
END:VEVENT
END:VCALENDAR