BEGIN:VCALENDAR
VERSION:2.0
PRODID:-//The Piedmont Virginian - ECPv5.3.2.1//NONSGML v1.0//EN
CALSCALE:GREGORIAN
METHOD:PUBLISH
X-WR-CALNAME:The Piedmont Virginian
X-ORIGINAL-URL:https://piedmontvirginian.com
X-WR-CALDESC:Events for The Piedmont Virginian
BEGIN:VTIMEZONE
TZID:America/New_York
BEGIN:DAYLIGHT
TZOFFSETFROM:-0500
TZOFFSETTO:-0400
TZNAME:EDT
DTSTART:20160313T070000
END:DAYLIGHT
BEGIN:STANDARD
TZOFFSETFROM:-0400
TZOFFSETTO:-0500
TZNAME:EST
DTSTART:20161106T060000
END:STANDARD
END:VTIMEZONE
BEGIN:VEVENT
DTSTART;TZID=America/New_York:20160616T193000
DTEND;TZID=America/New_York:20160616T220000
DTSTAMP:20260419T210648
CREATED:20160608T190159Z
LAST-MODIFIED:20160608T190159Z
UID:12840-1466105400-1466114400@piedmontvirginian.com
SUMMARY:The Library of Congress presents Silent Movie Double Feature
DESCRIPTION:“Whispering Shadows” (Peerless Feature\, 1921). After attending a séance\, a young couple deals with the question of whether the dead have the power to warn their loved ones of impending danger. “That Model From Paris” (Tiffany Productions\, 1926). This rarely seen film is a Cinderella story where a plain-looking cashier is compelled to pose as a model from Paris who knows no English while working in a fashionable salon. Live musical accompaniment will be provided by Andrew Simpson. Starts at 7:30 p.m.  Free\, at the Library of Congress Packard Campus Theater located at 19053 Mt. Pony Rd. in Culpeper\, VA. No reservations required. For more information\, call 202-707-9994.
URL:https://piedmontvirginian.com/event/the-library-of-congress-presents-silent-movie-double-feature/
LOCATION:Library of Congress Packard Campus Theater\, 19053 Mt. Pony Rd.\, Culpeper\, VA\, 22701\, United States
CATEGORIES:@ Culpeper Times
END:VEVENT
END:VCALENDAR