BEGIN:VCALENDAR
VERSION:2.0
PRODID:-//The Piedmont Virginian - ECPv5.3.2.1//NONSGML v1.0//EN
CALSCALE:GREGORIAN
METHOD:PUBLISH
X-WR-CALNAME:The Piedmont Virginian
X-ORIGINAL-URL:https://piedmontvirginian.com
X-WR-CALDESC:Events for The Piedmont Virginian
BEGIN:VTIMEZONE
TZID:America/New_York
BEGIN:DAYLIGHT
TZOFFSETFROM:-0500
TZOFFSETTO:-0400
TZNAME:EDT
DTSTART:20180311T070000
END:DAYLIGHT
BEGIN:STANDARD
TZOFFSETFROM:-0400
TZOFFSETTO:-0500
TZNAME:EST
DTSTART:20181104T060000
END:STANDARD
END:VTIMEZONE
BEGIN:VEVENT
DTSTART;TZID=America/New_York:20180608T180000
DTEND;TZID=America/New_York:20180608T193000
DTSTAMP:20260421T154801
CREATED:20180507T202428Z
LAST-MODIFIED:20180507T202428Z
UID:25513-1528480800-1528486200@piedmontvirginian.com
SUMMARY:The Myth and Mystery of the "Vanderbilt Coach"
DESCRIPTION:Learn about NSLM’s early 20th century silver coach and four through letters\, photos\, and newspaper clippings spanning the last hundred years. Claudia Pfeiffer\, the George L. Ohrstrom\, Jr. Curator of Art\, will give guests a peek into the drama and personalities of Gilded Age coaching. For more information or to RSVP contact Anne Marie Paquette\, 540-687-6542 ext. 25 or APaquette@nationalsporting.org
URL:https://piedmontvirginian.com/event/the-myth-and-mystery-of-the-vanderbilt-coach/
LOCATION:National Sporting Library & Museum\, 102 The Plains Road\, Middleburg\, VA\, 20117\, United States
CATEGORIES:@ Piedmont Virginian
END:VEVENT
END:VCALENDAR