BEGIN:VCALENDAR
VERSION:2.0
PRODID:-//The Piedmont Virginian - ECPv5.3.2.1//NONSGML v1.0//EN
CALSCALE:GREGORIAN
METHOD:PUBLISH
X-WR-CALNAME:The Piedmont Virginian
X-ORIGINAL-URL:https://piedmontvirginian.com
X-WR-CALDESC:Events for The Piedmont Virginian
BEGIN:VTIMEZONE
TZID:America/New_York
BEGIN:DAYLIGHT
TZOFFSETFROM:-0500
TZOFFSETTO:-0400
TZNAME:EDT
DTSTART:20170312T070000
END:DAYLIGHT
BEGIN:STANDARD
TZOFFSETFROM:-0400
TZOFFSETTO:-0500
TZNAME:EST
DTSTART:20171105T060000
END:STANDARD
END:VTIMEZONE
BEGIN:VEVENT
DTSTART;TZID=America/New_York:20171101T090000
DTEND;TZID=America/New_York:20171101T170000
DTSTAMP:20260419T085729
CREATED:20170705T193440Z
LAST-MODIFIED:20170705T193440Z
UID:21656-1509526800-1509555600@piedmontvirginian.com
SUMMARY:"The Skies Have It:  Sunrises and Sunsets of Virginia"
DESCRIPTION:Randy Baskerville presents her recent oil paintings of sunrises and sunsets she has painted in Virginia. These paintings are done with the palette knife on canvas or Masonite\, using typical colors seen on our local horizons at certain times of day. The exhibit will be displayed at Westminster Canterbury\, 250 Pantops Mountain Road\, Charlottesville\, VA 22911\, hours: 9 am to 5 pm\, phone 434-972-2622.
URL:https://piedmontvirginian.com/event/the-skies-have-it-sunrises-and-sunsets-of-virginia/
CATEGORIES:@ Piedmont Virginian,Art
ATTACH;FMTTYPE=image/jpeg:https://piedmontvirginian.com/wp-content/uploads/2017/06/Blue-Ridge-Sunset.jpg
END:VEVENT
END:VCALENDAR