BEGIN:VCALENDAR
VERSION:2.0
PRODID:-//The Piedmont Virginian - ECPv5.3.2.1//NONSGML v1.0//EN
CALSCALE:GREGORIAN
METHOD:PUBLISH
X-WR-CALNAME:The Piedmont Virginian
X-ORIGINAL-URL:https://piedmontvirginian.com
X-WR-CALDESC:Events for The Piedmont Virginian
BEGIN:VTIMEZONE
TZID:America/New_York
BEGIN:DAYLIGHT
TZOFFSETFROM:-0500
TZOFFSETTO:-0400
TZNAME:EDT
DTSTART:20180311T070000
END:DAYLIGHT
BEGIN:STANDARD
TZOFFSETFROM:-0400
TZOFFSETTO:-0500
TZNAME:EST
DTSTART:20181104T060000
END:STANDARD
END:VTIMEZONE
BEGIN:VEVENT
DTSTART;TZID=America/New_York:20180826T120000
DTEND;TZID=America/New_York:20180826T150000
DTSTAMP:20260421T121703
CREATED:20180817T145317Z
LAST-MODIFIED:20180817T145317Z
UID:25968-1535284800-1535295600@piedmontvirginian.com
SUMMARY:Traveling Petting Zoo at Keswick Vineyards
DESCRIPTION:We had so much fun with Foxboro Farm Traveling Petting Zoo last month\, we are having them come visit again! If you missed it last month\, now is your chance! \nThey will be visiting Keswick Vineyards on Sunday\, August 26th from 12pm-3pm and this time we will have Bo Hatchet Barbeque and Catering and Kona Ice Cville here too to make it even better! \nNo entry-fee! Just gather up your friends and littles and enjoy some great wine and food\, beautiful views\, and sweet animals!
URL:https://piedmontvirginian.com/event/traveling-petting-zoo-at-keswick-vineyards/
LOCATION:Keswick Vineyards\, VA\, United States
CATEGORIES:@ Piedmont Virginian
ATTACH;FMTTYPE=image/jpeg:https://piedmontvirginian.com/wp-content/uploads/2018/08/2021_646426922126966_3684983815623145673_n.jpg
END:VEVENT
END:VCALENDAR