BEGIN:VCALENDAR
VERSION:2.0
PRODID:-//The Piedmont Virginian - ECPv5.3.2.1//NONSGML v1.0//EN
CALSCALE:GREGORIAN
METHOD:PUBLISH
X-WR-CALNAME:The Piedmont Virginian
X-ORIGINAL-URL:https://piedmontvirginian.com
X-WR-CALDESC:Events for The Piedmont Virginian
BEGIN:VTIMEZONE
TZID:America/New_York
BEGIN:DAYLIGHT
TZOFFSETFROM:-0500
TZOFFSETTO:-0400
TZNAME:EDT
DTSTART:20180311T070000
END:DAYLIGHT
BEGIN:STANDARD
TZOFFSETFROM:-0400
TZOFFSETTO:-0500
TZNAME:EST
DTSTART:20181104T060000
END:STANDARD
END:VTIMEZONE
BEGIN:VEVENT
DTSTART;TZID=America/New_York:20181127T193000
DTEND;TZID=America/New_York:20181127T213000
DTSTAMP:20260421T073058
CREATED:20180817T145409Z
LAST-MODIFIED:20180817T145409Z
UID:26012-1543347000-1543354200@piedmontvirginian.com
SUMMARY:Tuesday Evening Concert Series presents Calidore String Quartet
DESCRIPTION:Program: Haydn\, Mendelssohn & Beethoven. Tickets on sale 11/13: http://artsboxoffice.virginia.edu or (434) 924-3376
URL:https://piedmontvirginian.com/event/tuesday-evening-concert-series-presents-calidore-string-quartet/
LOCATION:Cabell Hall Auditorium\, UVA\, VA\, United States
CATEGORIES:@ Piedmont Virginian
ATTACH;FMTTYPE=image/jpeg:https://piedmontvirginian.com/wp-content/uploads/2018/08/3.-CALIDORE-PHOTO.jpg
END:VEVENT
END:VCALENDAR