BEGIN:VCALENDAR
VERSION:2.0
PRODID:-//The Piedmont Virginian - ECPv5.3.2.1//NONSGML v1.0//EN
CALSCALE:GREGORIAN
METHOD:PUBLISH
X-WR-CALNAME:The Piedmont Virginian
X-ORIGINAL-URL:https://piedmontvirginian.com
X-WR-CALDESC:Events for The Piedmont Virginian
BEGIN:VTIMEZONE
TZID:America/New_York
BEGIN:DAYLIGHT
TZOFFSETFROM:-0500
TZOFFSETTO:-0400
TZNAME:EDT
DTSTART:20180311T070000
END:DAYLIGHT
BEGIN:STANDARD
TZOFFSETFROM:-0400
TZOFFSETTO:-0500
TZNAME:EST
DTSTART:20181104T060000
END:STANDARD
END:VTIMEZONE
BEGIN:VEVENT
DTSTART;TZID=America/New_York:20180818T190000
DTEND;TZID=America/New_York:20180818T220000
DTSTAMP:20260421T122358
CREATED:20180416T161910Z
LAST-MODIFIED:20180416T161910Z
UID:25167-1534618800-1534629600@piedmontvirginian.com
SUMMARY:Tuscany in the Moonlight
DESCRIPTION:Experience an enchanting\, one-of-a-kind intimate evening at the vineyard\, with a Tuscan dinner under the stars. \nImagine yourself strolling through the vineyard\, all while serenaded by live music from classical artists Galastro-Smith Duo and sipping on wine! \nThe entire property will become the stage for Tuscany in the Moonlight\, a place unsurpassed in beauty & intimacy – we’re limiting reservations to you and thirty other wine enthusiasts and anyone else looking for the ultimate evening out. \nVeramar Vineyard’s Tuscany in the Moonlight is not to be missed! \nThis is the perfect occasion to create that perfect outfit that matches the elegance of Italian wine country. \nEach ticket includes an elegant three-course dinner with each course paired with a tasting of a Veramar wine with a cash bar to follow. \nReservations are required by Monday\, August 13th. \nTickets are $55 per person.
URL:https://piedmontvirginian.com/event/tuscany-in-the-moonlight-2/
LOCATION:Veramar Vineyard\, 905 Quarry Rd\, Berryville\, 22611
CATEGORIES:@ Piedmont Virginian
ATTACH;FMTTYPE=image/jpeg:https://piedmontvirginian.com/wp-content/uploads/2018/04/Tuscany.jpg
END:VEVENT
END:VCALENDAR