BEGIN:VCALENDAR
VERSION:2.0
PRODID:-//The Piedmont Virginian - ECPv5.3.2.1//NONSGML v1.0//EN
CALSCALE:GREGORIAN
METHOD:PUBLISH
X-WR-CALNAME:The Piedmont Virginian
X-ORIGINAL-URL:https://piedmontvirginian.com
X-WR-CALDESC:Events for The Piedmont Virginian
BEGIN:VTIMEZONE
TZID:America/New_York
BEGIN:DAYLIGHT
TZOFFSETFROM:-0500
TZOFFSETTO:-0400
TZNAME:EDT
DTSTART:20170312T070000
END:DAYLIGHT
BEGIN:STANDARD
TZOFFSETFROM:-0400
TZOFFSETTO:-0500
TZNAME:EST
DTSTART:20171105T060000
END:STANDARD
END:VTIMEZONE
BEGIN:VEVENT
DTSTART;TZID=America/New_York:20170605T190000
DTEND;TZID=America/New_York:20170605T203000
DTSTAMP:20260419T205408
CREATED:20170601T180539Z
LAST-MODIFIED:20170601T180539Z
UID:21327-1496689200-1496694600@piedmontvirginian.com
SUMMARY:Vietnam Veterans Meetup
DESCRIPTION:Vietnam Veterans of America Piedmont Area Chapter 752 will hold their monthly meeting at St. Stephen’s Episcopal Church starting at 7 p.m. in the parish hall. Veterans and visitors welcome to attend. Address: 115 N. East St.\, Culpeper | Parking: 120 N. Commerce Street. Contact Sam or Linda Thompson at 540-825-5672. (pick up again in September)
URL:https://piedmontvirginian.com/event/vietnam-veterans-meetup/
LOCATION:St. Stephen’s Episcopal Church\, 115 N. East St.\, Culpeper\, VA\, 22701\, United States
CATEGORIES:@ Culpeper Times,Meetup
END:VEVENT
END:VCALENDAR