BEGIN:VCALENDAR
VERSION:2.0
PRODID:-//The Piedmont Virginian - ECPv5.3.2.1//NONSGML v1.0//EN
CALSCALE:GREGORIAN
METHOD:PUBLISH
X-WR-CALNAME:The Piedmont Virginian
X-ORIGINAL-URL:https://piedmontvirginian.com
X-WR-CALDESC:Events for The Piedmont Virginian
BEGIN:VTIMEZONE
TZID:America/New_York
BEGIN:DAYLIGHT
TZOFFSETFROM:-0500
TZOFFSETTO:-0400
TZNAME:EDT
DTSTART:20180311T070000
END:DAYLIGHT
BEGIN:STANDARD
TZOFFSETFROM:-0400
TZOFFSETTO:-0500
TZNAME:EST
DTSTART:20181104T060000
END:STANDARD
END:VTIMEZONE
BEGIN:VEVENT
DTSTART;TZID=America/New_York:20180616T110000
DTEND;TZID=America/New_York:20180616T150000
DTSTAMP:20260421T155855
CREATED:20180507T202106Z
LAST-MODIFIED:20180507T202106Z
UID:25527-1529146800-1529161200@piedmontvirginian.com
SUMMARY:Virginia State Parks History and Culture: Civil War to Civil Rights
DESCRIPTION:From separation of families during slavery in the mid-1800s\, to children without local schools in the mid-1900s\, Sky Meadows’ history is rich in stories of African American’s experience in the Crooked Run Valley. Join staff and volunteers for special tours of the park’s Historic Area to see\, hear\, taste and touch these stories. Tours begin every half hour at the front porch of Mount Bleak House.
URL:https://piedmontvirginian.com/event/virginia-state-parks-history-and-culture-civil-war-to-civil-rights/
LOCATION:Sky Meadows State Park\, 11012 Edmonds Lane\, Delaplane\, VA\, 20144\, United States
CATEGORIES:@ Piedmont Virginian
ATTACH;FMTTYPE=image/jpeg:https://piedmontvirginian.com/wp-content/uploads/2018/05/20170101_110445_5869c9c1e01cf_large.jpg
END:VEVENT
END:VCALENDAR