BEGIN:VCALENDAR
VERSION:2.0
PRODID:-//The Piedmont Virginian - ECPv5.3.2.1//NONSGML v1.0//EN
CALSCALE:GREGORIAN
METHOD:PUBLISH
X-WR-CALNAME:The Piedmont Virginian
X-ORIGINAL-URL:https://piedmontvirginian.com
X-WR-CALDESC:Events for The Piedmont Virginian
BEGIN:VTIMEZONE
TZID:America/New_York
BEGIN:DAYLIGHT
TZOFFSETFROM:-0500
TZOFFSETTO:-0400
TZNAME:EDT
DTSTART:20180311T070000
END:DAYLIGHT
BEGIN:STANDARD
TZOFFSETFROM:-0400
TZOFFSETTO:-0500
TZNAME:EST
DTSTART:20181104T060000
END:STANDARD
END:VTIMEZONE
BEGIN:VEVENT
DTSTART;TZID=America/New_York:20181020T090000
DTEND;TZID=America/New_York:20181020T120000
DTSTAMP:20260421T090209
CREATED:20180716T203616Z
LAST-MODIFIED:20180716T203616Z
UID:25768-1540026000-1540036800@piedmontvirginian.com
SUMMARY:Walk to End Alzheimer's
DESCRIPTION:Held annually in more than 600 communities nationwide\, the Alzheimer’s Association Walk to End Alzheimer’s® is the world’s largest event to raise awareness and funds for Alzheimer’s care\, support and research. This inspiring event calls on participants of all ages and abilities to join the fight against the disease! \nWhen you participate in Walk\, your fundraising dollars fuel our mission\, and your participation in the event helps to change the level of Alzheimer’s awareness in your community. The Alzheimer’s Association provides free\, easy-to-use tools and staff support to help participants reach their fundraising goal. While there is no fee to register\, we encourage participants to fundraise in order to contribute to the cause and raise awareness. \nTake the first step by registering for the Walk in Charlottesville on October 20th\, 2018. Once you register\, you will have access to a wide range of tools and support through your customized Participant Center. Join us and lead the way to Alzheimer’s first survivor. Together\, we can end Alzheimer’s disease! \nRegister at www.cvillewalk.org or contact Julia Craig at jcraig@alz.org for more information.
URL:https://piedmontvirginian.com/event/walk-to-end-alzheimers/
LOCATION:IX Art Park\, 522 2nd St SE\, Charlottesville\, VA\, 22902\, United States
CATEGORIES:@ Piedmont Virginian
ATTACH;FMTTYPE=image/jpeg:https://piedmontvirginian.com/wp-content/uploads/2018/07/WalkLogo_cmyk.jpg
END:VEVENT
END:VCALENDAR