BEGIN:VCALENDAR
VERSION:2.0
PRODID:-//The Piedmont Virginian - ECPv5.3.2.1//NONSGML v1.0//EN
CALSCALE:GREGORIAN
METHOD:PUBLISH
X-WR-CALNAME:The Piedmont Virginian
X-ORIGINAL-URL:https://piedmontvirginian.com
X-WR-CALDESC:Events for The Piedmont Virginian
BEGIN:VTIMEZONE
TZID:America/New_York
BEGIN:DAYLIGHT
TZOFFSETFROM:-0500
TZOFFSETTO:-0400
TZNAME:EDT
DTSTART:20170312T070000
END:DAYLIGHT
BEGIN:STANDARD
TZOFFSETFROM:-0400
TZOFFSETTO:-0500
TZNAME:EST
DTSTART:20171105T060000
END:STANDARD
END:VTIMEZONE
BEGIN:VEVENT
DTSTART;TZID=America/New_York:20170506T083000
DTEND;TZID=America/New_York:20170506T100000
DTSTAMP:20260419T130713
CREATED:20170504T170238Z
LAST-MODIFIED:20170504T170238Z
UID:20728-1494059400-1494064800@piedmontvirginian.com
SUMMARY:Wicked Run Cross Country 5K and ½ mile Fun Run
DESCRIPTION:8th Annual Cross Country 5K and ½ mile Fun Run. Starts from Old House Vineyards located at 18351 Corky’s Lane. New this year – chipped time. Registration starts at 6 a.m. $30/5K\, $10/1/2 mile. 5K starts at 8:30 a.m. Fun for all ages. Register at www.CulpeperRecreation.com. Contact 540-727-3412
URL:https://piedmontvirginian.com/event/wicked-run-cross-country-5k-and-%c2%bd-mile-fun-run/
CATEGORIES:@ Culpeper Times,Outdoor Events
END:VEVENT
END:VCALENDAR