BEGIN:VCALENDAR
VERSION:2.0
PRODID:-//The Piedmont Virginian - ECPv5.3.2.1//NONSGML v1.0//EN
CALSCALE:GREGORIAN
METHOD:PUBLISH
X-WR-CALNAME:The Piedmont Virginian
X-ORIGINAL-URL:https://piedmontvirginian.com
X-WR-CALDESC:Events for The Piedmont Virginian
BEGIN:VTIMEZONE
TZID:America/New_York
BEGIN:DAYLIGHT
TZOFFSETFROM:-0500
TZOFFSETTO:-0400
TZNAME:EDT
DTSTART:20170312T070000
END:DAYLIGHT
BEGIN:STANDARD
TZOFFSETFROM:-0400
TZOFFSETTO:-0500
TZNAME:EST
DTSTART:20171105T060000
END:STANDARD
END:VTIMEZONE
BEGIN:VEVENT
DTSTART;TZID=America/New_York:20170604T200000
DTEND;TZID=America/New_York:20170604T220000
DTSTAMP:20260419T193603
CREATED:20170517T135303Z
LAST-MODIFIED:20170517T135303Z
UID:20362-1496606400-1496613600@piedmontvirginian.com
SUMMARY:Will Lee\, Danny Knicely & John Flower: Album Release Concert at Barns at Rose Hill
DESCRIPTION:Don’t miss the album release concert of Will Lee\, Danny Knicely\, and John Flower’s new album The Evening News! \nWill (banjo\, guitar)\, Danny (mandolin\, guitar) and John (bass) navigate a deep and intuitive current of time\, melody and harmony that will move you. Their brand new project – The Evening News – includes originals\, old favorites\, a cappella and hot instrumental numbers\, and tight harmony singing takes a spotlight with Will’s smooth lead and baritone\, Danny’s cutting tenor\, and John’s soaring high-baritone. \nDanny and John are both known for their work with David Via and Corn Tornado in the early 2000s\, while Danny and Will released a well-received duet album in 2006 called Murders\, Drownings and Lost Loves\, but the three first performed together as part of the award-winning Magraw Gap in the mid-1990s. Their over twenty years of experience making music together comes through in a concert full of excitement and sentimentality. \nTicket Prices & Info:\nAll Tickets are General Admission\n$15 in advance until 3:00 PM on the day of event\n$20 at the door\nChildren: 12 years and below are free when accompanied by an adult
URL:https://piedmontvirginian.com/event/will-lee-danny-knicely-john-flower-album-release-concert-at-barns-at-rose-hill/
LOCATION:The Barns at Rose Hill\, 95 Chalmers Court\, Berryville\, VA\, 22611\, United States
CATEGORIES:@ Piedmont Virginian,Music and Concerts
ATTACH;FMTTYPE=image/jpeg:https://piedmontvirginian.com/wp-content/uploads/2017/04/Danny-Knicely-fb2.jpg
END:VEVENT
END:VCALENDAR