BEGIN:VCALENDAR
VERSION:2.0
PRODID:-//The Piedmont Virginian - ECPv5.3.2.1//NONSGML v1.0//EN
CALSCALE:GREGORIAN
METHOD:PUBLISH
X-WR-CALNAME:The Piedmont Virginian
X-ORIGINAL-URL:https://piedmontvirginian.com
X-WR-CALDESC:Events for The Piedmont Virginian
BEGIN:VTIMEZONE
TZID:America/New_York
BEGIN:DAYLIGHT
TZOFFSETFROM:-0500
TZOFFSETTO:-0400
TZNAME:EDT
DTSTART:20160313T070000
END:DAYLIGHT
BEGIN:STANDARD
TZOFFSETFROM:-0400
TZOFFSETTO:-0500
TZNAME:EST
DTSTART:20161106T060000
END:STANDARD
END:VTIMEZONE
BEGIN:VEVENT
DTSTART;TZID=America/New_York:20161127T190000
DTEND;TZID=America/New_York:20161127T210000
DTSTAMP:20260419T083603
CREATED:20160531T151203Z
LAST-MODIFIED:20160531T151203Z
UID:12426-1480273200-1480280400@piedmontvirginian.com
SUMMARY:Windham Hill "A Winter Solstice Concert"
DESCRIPTION:Come rejoice in the joy and tranquility of the approaching winter season with masterful performances by these three leading musicians from Windham Hill. This premier recording label has introduced many of today’s most accomplished acoustic\, classical\, and folk artists\, and this ensemble represents some of its finest. Multiple Grammy Award nominee Liz Story is one of the foremost pioneers of contemporary solo piano whose work crosses many musical genres. Grammy-nominated singer and multi-instrumentalist Barbara Higbie is a folk\, jazz\, pop\, and fusion singer-songwriter\, especially noted for her highly melodic piano performances. They are joined by guitarist Sean Harkness who “sounds at times like a one-man orchestra” (Jersey Jazz). From “Carol of the Bells” to “Greensleeves\,” they perform beloved carols and winter songs from diverse traditions that celebrate the season\, filling your season with warmth and love.
URL:https://piedmontvirginian.com/event/windham-hill-a-winter-solstice-concert/
LOCATION:Hylton Performing Arts Center\, 10960 George Mason Circle\, Manassas\, VA\, 20110\, United States
CATEGORIES:@ Piedmont Virginian,Music and Concerts,Seasonal holidays
ATTACH;FMTTYPE=image/jpeg:https://piedmontvirginian.com/wp-content/uploads/2016/05/2.-Liz-Story.-Windham-Hill-A-Winter-Solstice-Concert.-Photo-courtesy-of-the-artist.-.jpg
END:VEVENT
END:VCALENDAR