BEGIN:VCALENDAR
VERSION:2.0
PRODID:-//The Piedmont Virginian - ECPv5.3.2.1//NONSGML v1.0//EN
CALSCALE:GREGORIAN
METHOD:PUBLISH
X-WR-CALNAME:The Piedmont Virginian
X-ORIGINAL-URL:https://piedmontvirginian.com
X-WR-CALDESC:Events for The Piedmont Virginian
BEGIN:VTIMEZONE
TZID:America/New_York
BEGIN:DAYLIGHT
TZOFFSETFROM:-0500
TZOFFSETTO:-0400
TZNAME:EDT
DTSTART:20180311T070000
END:DAYLIGHT
BEGIN:STANDARD
TZOFFSETFROM:-0400
TZOFFSETTO:-0500
TZNAME:EST
DTSTART:20181104T060000
END:STANDARD
END:VTIMEZONE
BEGIN:VEVENT
DTSTART;TZID=America/New_York:20180516T173000
DTEND;TZID=America/New_York:20180516T203000
DTSTAMP:20260421T073451
CREATED:20180502T172829Z
LAST-MODIFIED:20180502T172829Z
UID:25477-1526491800-1526502600@piedmontvirginian.com
SUMMARY:Wine Down Wednesdays
DESCRIPTION:Join us on select Wednesday evenings to “wine down” with some great music\, food\, and\, of course\, wine from 5:30pm to 8:00pm! \nMay 16\, 2018 – Music: Tara Mills Band / Food: Spice Sea Gourmet \nJune 20\, 2018 – Music: Erin & the Wildfire / Food: Spice Sea Gourmet \nJuly 18\, 2018 – Music: Scuffletown / Food: Spice Sea Gourmet \nAug 15\, 2018 – Music: Jason Burke / Food: Band Spice Sea Gourmet \nSep 19\, 2018 – Music: Jon Spear Band / Food: Spice Sea Gourmet \nOct 17\, 2018 – Music: Chamomile & Whiskey / Food: Spice Sea Gourmet
URL:https://piedmontvirginian.com/event/wine-down-wednesdays/
LOCATION:Keswick Vineyards\, VA\, United States
CATEGORIES:@ Piedmont Virginian
ATTACH;FMTTYPE=image/jpeg:https://piedmontvirginian.com/wp-content/uploads/2018/04/windown-banner.jpg
END:VEVENT
END:VCALENDAR