BEGIN:VCALENDAR
VERSION:2.0
PRODID:-//The Piedmont Virginian - ECPv5.3.2.1//NONSGML v1.0//EN
CALSCALE:GREGORIAN
METHOD:PUBLISH
X-WR-CALNAME:The Piedmont Virginian
X-ORIGINAL-URL:https://piedmontvirginian.com
X-WR-CALDESC:Events for The Piedmont Virginian
BEGIN:VTIMEZONE
TZID:America/New_York
BEGIN:DAYLIGHT
TZOFFSETFROM:-0500
TZOFFSETTO:-0400
TZNAME:EDT
DTSTART:20160313T070000
END:DAYLIGHT
BEGIN:STANDARD
TZOFFSETFROM:-0400
TZOFFSETTO:-0500
TZNAME:EST
DTSTART:20161106T060000
END:STANDARD
END:VTIMEZONE
BEGIN:VEVENT
DTSTART;TZID=America/New_York:20161217T120000
DTEND;TZID=America/New_York:20161217T130000
DTSTAMP:20260419T121320
CREATED:20161215T201402Z
LAST-MODIFIED:20161215T201402Z
UID:17937-1481976000-1481979600@piedmontvirginian.com
SUMMARY:Wreaths Across America
DESCRIPTION:The American Heritage Girls and Trail Life sponsor this year’s Wreaths Across America event at the Culpeper National Cemetery. Ceremony at noon with wreath laying at 12:30 p.m. on the Annex side this year on the Chandler Street side. Wreaths are laid to honor veterans.  Contact Director Lance Pridemore at 540-825-0027.
URL:https://piedmontvirginian.com/event/wreaths-across-america/
CATEGORIES:@ Culpeper Times
END:VEVENT
END:VCALENDAR