BEGIN:VCALENDAR
VERSION:2.0
PRODID:-//The Piedmont Virginian - ECPv5.3.2.1//NONSGML v1.0//EN
CALSCALE:GREGORIAN
METHOD:PUBLISH
X-WR-CALNAME:The Piedmont Virginian
X-ORIGINAL-URL:https://piedmontvirginian.com
X-WR-CALDESC:Events for The Piedmont Virginian
BEGIN:VTIMEZONE
TZID:America/New_York
BEGIN:DAYLIGHT
TZOFFSETFROM:-0500
TZOFFSETTO:-0400
TZNAME:EDT
DTSTART:20170312T070000
END:DAYLIGHT
BEGIN:STANDARD
TZOFFSETFROM:-0400
TZOFFSETTO:-0500
TZNAME:EST
DTSTART:20171105T060000
END:STANDARD
END:VTIMEZONE
BEGIN:VEVENT
DTSTART;TZID=America/New_York:20170603T080000
DTEND;TZID=America/New_York:20170603T140000
DTSTAMP:20260419T133449
CREATED:20170601T175535Z
LAST-MODIFIED:20170601T175535Z
UID:21287-1496476800-1496498400@piedmontvirginian.com
SUMMARY:Yard Sale
DESCRIPTION:Woodland United Methodist Church at 14280 Woodland Church Road\, Culpeper will  host its Annual yard/bake/luncheon on Saturday June 3rd from 8 a.m. – 2 p.m. (Rain or Shine). There will be many household items\, clothing\, knick knacks\, and COLLECTIBLE ITEMS GALORE\, homemade bake items\, hot dogs\, BBQ and sodas. Proceeds to benefit Church’s outreach programs.
URL:https://piedmontvirginian.com/event/yard-sale-2/
LOCATION:Woodland United Methodist Church\, 14280 Woodland Church Road\, Culpeper\, VA\, 22701\, United States
CATEGORIES:@ Culpeper Times
END:VEVENT
END:VCALENDAR